BEGIN:VCALENDAR
VERSION:2.0
PRODID:-//eventon.com NONSGML v1.0//EN
CALSCALE:GREGORIAN
METHOD:PUBLISH
BEGIN:VEVENT
UID:69e74cfe1d7c8
DTSTAMP:20260421T101006Z
DTSTART:20260614T073000Z
DTEND:20260614T103000Z
LOCATION:
SUMMARY:Bauernfrühstück 10:00 - 12:00
DESCRIPTION:Bolderhofbrot\,  UrDinkelvollkornbrot\, &nbsp; ofenfrischer Zop
 f\,  verschiedene Konfis\,  Honig\,  Aufstriche\,  Butter\,  Käse\,  auch 
 vom Bolderhof\,  Schüblig\,  Pastrami\,  Salami\,  Geräuchtes aus Wasserb
 üffelfleisch\,  Birchermüesli\,  Cornflakes\,  Knuspermüesli\,  Fruchtjo
 ghurt\,  Obst\,  Apfelsaft\,  Kaffee\,  Tee\,  Kuhmilch und Eier.&nbsp;&nbs
 p;&nbsp;&nbsp;&nbsp;&nbsp;&nbsp;&nbsp;&nbsp;&nbsp;&nbsp;&nbsp;&nbsp;&nbsp;&
 nbsp;&nbsp;&nbsp;&nbsp;&nbsp;&nbsp;&nbsp;&nbsp;&nbsp;&nbsp;&nbsp;&nbsp;&nbs
 p;&nbsp;&nbsp;&nbsp;&nbsp;&nbsp;&nbsp;&nbsp;&nbsp;&nbsp;&nbsp;&nbsp;&nbsp;&
 nbsp;&nbsp;&nbsp;&nbsp; &nbsp;&nbsp;&nbsp;&nbsp;&nbsp;&nbsp;&nbsp;&nbsp;&nb
 sp;&nbsp;&nbsp;&nbsp;&nbsp;&nbsp;&nbsp;&nbsp;&nbsp;&nbsp;&nbsp;&nbsp;&nbsp;
 &nbsp;&nbsp; Kosten:&nbsp;&nbsp;&nbsp;&nbsp;&nbsp;&nbsp;&nbsp;&nbsp;&nbsp;&
 nbsp; CHF 39.00/Erwachsene PersonCHF 19.00/Kind zwischen 4 und 12 Jahren Ku
 hreitenKuhreiten auf dem Hof: wir spazieren mit einer Kuh[..]\nhttps://www.
 bolderhof.ch/events/bauernfruehstueck2/
URL:https://www.bolderhof.ch/events/bauernfruehstueck2/
END:VEVENT
END:VCALENDAR